BEGIN:VCALENDAR
VERSION:2.0
PRODID:-//Óbudai Egyetem Alba Regia Kar - ECPv6.15.15//NONSGML v1.0//EN
CALSCALE:GREGORIAN
METHOD:PUBLISH
X-WR-CALNAME:Óbudai Egyetem Alba Regia Kar
X-ORIGINAL-URL:https://amk.uni-obuda.hu
X-WR-CALDESC:Események Óbudai Egyetem Alba Regia Kar
REFRESH-INTERVAL;VALUE=DURATION:PT1H
X-Robots-Tag:noindex
X-PUBLISHED-TTL:PT1H
BEGIN:VTIMEZONE
TZID:Europe/Budapest
BEGIN:DAYLIGHT
TZOFFSETFROM:+0100
TZOFFSETTO:+0200
TZNAME:CEST
DTSTART:20230326T010000
END:DAYLIGHT
BEGIN:STANDARD
TZOFFSETFROM:+0200
TZOFFSETTO:+0100
TZNAME:CET
DTSTART:20231029T010000
END:STANDARD
BEGIN:DAYLIGHT
TZOFFSETFROM:+0100
TZOFFSETTO:+0200
TZNAME:CEST
DTSTART:20240331T010000
END:DAYLIGHT
BEGIN:STANDARD
TZOFFSETFROM:+0200
TZOFFSETTO:+0100
TZNAME:CET
DTSTART:20241027T010000
END:STANDARD
BEGIN:DAYLIGHT
TZOFFSETFROM:+0100
TZOFFSETTO:+0200
TZNAME:CEST
DTSTART:20250330T010000
END:DAYLIGHT
BEGIN:STANDARD
TZOFFSETFROM:+0200
TZOFFSETTO:+0100
TZNAME:CET
DTSTART:20251026T010000
END:STANDARD
END:VTIMEZONE
BEGIN:VEVENT
DTSTART;TZID=Europe/Budapest:20241001T133000
DTEND;TZID=Europe/Budapest:20241001T173000
DTSTAMP:20260420T003642
CREATED:20240919T113041Z
LAST-MODIFIED:20250307T105043Z
UID:14309-1727789400-1727803800@amk.uni-obuda.hu
SUMMARY:AMK őszi tanár-diák közös túra
DESCRIPTION:Sukoró\nBusz indulás: 13:30\, Hadiárva utca\nTalálkozó: Sukoró\, 14:00\, túra vége: 17:30
URL:https://amk.uni-obuda.hu/esemeny/amk-oszi-tanar-diak-kozos-tura/
CATEGORIES:Magyar
END:VEVENT
BEGIN:VEVENT
DTSTART;TZID=Europe/Budapest:20241001T180000
DTEND;TZID=Europe/Budapest:20241001T200000
DTSTAMP:20260420T003642
CREATED:20240611T065426Z
LAST-MODIFIED:20240921T172231Z
UID:12835-1727805600-1727812800@amk.uni-obuda.hu
SUMMARY:Garai Géza Szabadegyetem
DESCRIPTION:
URL:https://amk.uni-obuda.hu/esemeny/garai-geza-szabadegyetem-6/
CATEGORIES:Magyar
END:VEVENT
END:VCALENDAR