BEGIN:VCALENDAR
VERSION:2.0
PRODID:-//Óbudai Egyetem Alba Regia Kar - ECPv6.15.15//NONSGML v1.0//EN
CALSCALE:GREGORIAN
METHOD:PUBLISH
X-ORIGINAL-URL:https://amk.uni-obuda.hu
X-WR-CALDESC:Események Óbudai Egyetem Alba Regia Kar
REFRESH-INTERVAL;VALUE=DURATION:PT1H
X-Robots-Tag:noindex
X-PUBLISHED-TTL:PT1H
BEGIN:VTIMEZONE
TZID:Europe/Budapest
BEGIN:DAYLIGHT
TZOFFSETFROM:+0100
TZOFFSETTO:+0200
TZNAME:CEST
DTSTART:20230326T010000
END:DAYLIGHT
BEGIN:STANDARD
TZOFFSETFROM:+0200
TZOFFSETTO:+0100
TZNAME:CET
DTSTART:20231029T010000
END:STANDARD
BEGIN:DAYLIGHT
TZOFFSETFROM:+0100
TZOFFSETTO:+0200
TZNAME:CEST
DTSTART:20240331T010000
END:DAYLIGHT
BEGIN:STANDARD
TZOFFSETFROM:+0200
TZOFFSETTO:+0100
TZNAME:CET
DTSTART:20241027T010000
END:STANDARD
BEGIN:DAYLIGHT
TZOFFSETFROM:+0100
TZOFFSETTO:+0200
TZNAME:CEST
DTSTART:20250330T010000
END:DAYLIGHT
BEGIN:STANDARD
TZOFFSETFROM:+0200
TZOFFSETTO:+0100
TZNAME:CET
DTSTART:20251026T010000
END:STANDARD
END:VTIMEZONE
BEGIN:VEVENT
DTSTART;TZID=Europe/Budapest:20241213T100000
DTEND;TZID=Europe/Budapest:20241213T130000
DTSTAMP:20260419T213748
CREATED:20240919T113836Z
LAST-MODIFIED:20241202T085405Z
UID:14319-1734084000-1734094800@amk.uni-obuda.hu
SUMMARY:Nyílt nap
DESCRIPTION:Budai út 43.\, C1 épület\,  10:00 – 13:00 \nInformációk a nyílt napról
URL:https://amk.uni-obuda.hu/esemeny/nyilt-nap-2/
CATEGORIES:Magyar
END:VEVENT
BEGIN:VEVENT
DTSTART;TZID=Europe/Budapest:20241213T130000
DTEND;TZID=Europe/Budapest:20241213T140000
DTSTAMP:20260419T213748
CREATED:20241204T093018Z
LAST-MODIFIED:20241204T132757Z
UID:15370-1734094800-1734098400@amk.uni-obuda.hu
SUMMARY:Online tájékoztató a mesterképzésekről (MSc)
DESCRIPTION:https://www.amk.uni-obuda.hu/MSc
URL:https://amk.uni-obuda.hu/esemeny/online-tajekoztato-a-mesterkepzesekrol-msc/
CATEGORIES:Magyar
END:VEVENT
END:VCALENDAR