BEGIN:VCALENDAR
VERSION:2.0
PRODID:-//Óbudai Egyetem Alba Regia Kar - ECPv6.15.15//NONSGML v1.0//EN
CALSCALE:GREGORIAN
METHOD:PUBLISH
X-WR-CALNAME:Óbudai Egyetem Alba Regia Kar
X-ORIGINAL-URL:https://amk.uni-obuda.hu
X-WR-CALDESC:Események Óbudai Egyetem Alba Regia Kar
REFRESH-INTERVAL;VALUE=DURATION:PT1H
X-Robots-Tag:noindex
X-PUBLISHED-TTL:PT1H
BEGIN:VTIMEZONE
TZID:Europe/Budapest
BEGIN:DAYLIGHT
TZOFFSETFROM:+0100
TZOFFSETTO:+0200
TZNAME:CEST
DTSTART:20240331T010000
END:DAYLIGHT
BEGIN:STANDARD
TZOFFSETFROM:+0200
TZOFFSETTO:+0100
TZNAME:CET
DTSTART:20241027T010000
END:STANDARD
BEGIN:DAYLIGHT
TZOFFSETFROM:+0100
TZOFFSETTO:+0200
TZNAME:CEST
DTSTART:20250330T010000
END:DAYLIGHT
BEGIN:STANDARD
TZOFFSETFROM:+0200
TZOFFSETTO:+0100
TZNAME:CET
DTSTART:20251026T010000
END:STANDARD
BEGIN:DAYLIGHT
TZOFFSETFROM:+0100
TZOFFSETTO:+0200
TZNAME:CEST
DTSTART:20260329T010000
END:DAYLIGHT
BEGIN:STANDARD
TZOFFSETFROM:+0200
TZOFFSETTO:+0100
TZNAME:CET
DTSTART:20261025T010000
END:STANDARD
END:VTIMEZONE
BEGIN:VEVENT
DTSTART;TZID=Europe/Budapest:20250403T150000
DTEND;TZID=Europe/Budapest:20250403T170000
DTSTAMP:20260419T150039
CREATED:20250319T123452Z
LAST-MODIFIED:20250319T123452Z
UID:16299-1743692400-1743699600@amk.uni-obuda.hu
SUMMARY:Mikoviny Sámuel Szakkollégium előadás
DESCRIPTION:Kedves Hallgatók! \n Várunk mindenkit a Mikoviny Sámuel Szakkollégium Következő\, „FAO land tenure work in Europe and Central Asia” című előadására. \nAz előadó Morten Hartvigsen Az ENSZ Élelmezésügyi és Mezőgazdasági Világszervezetének Európai és Közép-Ázsiai Prioritási Program Koordinátora lesz. \nAz időpont 2025. április 3.\, 15:00 óra\, helyszín Pirosalma utcai épület\, Tanácsterem. \nAz előadás egyben az Innovation Worldwide tantárgy előadássorozatának része.
URL:https://amk.uni-obuda.hu/esemeny/mikoviny-samuel-szakkollegium-eloadas/
CATEGORIES:Magyar
END:VEVENT
END:VCALENDAR