BEGIN:VCALENDAR
VERSION:2.0
PRODID:-//Óbudai Egyetem Alba Regia Kar - ECPv6.15.15//NONSGML v1.0//EN
CALSCALE:GREGORIAN
METHOD:PUBLISH
X-WR-CALNAME:Óbudai Egyetem Alba Regia Kar
X-ORIGINAL-URL:https://amk.uni-obuda.hu
X-WR-CALDESC:Események Óbudai Egyetem Alba Regia Kar
REFRESH-INTERVAL;VALUE=DURATION:PT1H
X-Robots-Tag:noindex
X-PUBLISHED-TTL:PT1H
BEGIN:VTIMEZONE
TZID:Europe/Budapest
BEGIN:DAYLIGHT
TZOFFSETFROM:+0100
TZOFFSETTO:+0200
TZNAME:CEST
DTSTART:20230326T010000
END:DAYLIGHT
BEGIN:STANDARD
TZOFFSETFROM:+0200
TZOFFSETTO:+0100
TZNAME:CET
DTSTART:20231029T010000
END:STANDARD
BEGIN:DAYLIGHT
TZOFFSETFROM:+0100
TZOFFSETTO:+0200
TZNAME:CEST
DTSTART:20240331T010000
END:DAYLIGHT
BEGIN:STANDARD
TZOFFSETFROM:+0200
TZOFFSETTO:+0100
TZNAME:CET
DTSTART:20241027T010000
END:STANDARD
BEGIN:DAYLIGHT
TZOFFSETFROM:+0100
TZOFFSETTO:+0200
TZNAME:CEST
DTSTART:20250330T010000
END:DAYLIGHT
BEGIN:STANDARD
TZOFFSETFROM:+0200
TZOFFSETTO:+0100
TZNAME:CET
DTSTART:20251026T010000
END:STANDARD
END:VTIMEZONE
BEGIN:VEVENT
DTSTART;TZID=Europe/Budapest:20240115T100000
DTEND;TZID=Europe/Budapest:20240115T170000
DTSTAMP:20260420T123604
CREATED:20231214T150731Z
LAST-MODIFIED:20231214T151128Z
UID:9846-1705312800-1705338000@amk.uni-obuda.hu
SUMMARY:Nyílt nap
DESCRIPTION:Idöpont: 2024. január 15. (hétfö) 10:00 – jelenléti alapszak tájékoztató\nHelyszín: Székesfehérvár\, Pirosalma utca 1-3.\, Geoinformatikai Intézet\, nagyelőadó \n17:00 –  Teams mesterszak tájékoztató – Online \nhttps://amk.uni-obuda.hu/nyilt-napok/ \nNyílt nap az Óbudai Egyetem székesfehérvári képzéseinek a bemutatására\n(Bemutatkozik az Alba Regia Müszaki Kar és a Keleti Károly Gazdasági Kar)\nKérdezzen a hallgatóinktól! \nProgram: \n10:00 – 10:05 – Köszöntö – SZMJV Önkormányzat\n10:00 – 10:10 – Köszöntö – ÓE/ÓE Alba Regia Müszaki Kar\n10:10 – 10:20 – Tájékoztató a 2024. évi felvételiröl\n10:20 – 10:30 – Tájékoztató az ÓE Alba Regia Müszaki Kar duális képzéseiröl\n10:30 – 10:50 – Tájékoztató az ÓE Keleti Károly Gazdasági Kar székesfehérvári képzéseiröl \nHallgatói tájékoztatók az ÓE AMK képzési kínálatáról: \n10:50-10:55: Gépészmérnök\n10:55-11:00: Mérnökinformatikus\n11:00-11:05: Villamosmérnök\n11:05-11:10: Müszaki menedzser\n11:10-11:15: Földmérö és földrendezö mérnök \nHallgatói tájékoztató az ÓE KGK képzési kínálatáról: \n11:15-11:20: Gazdálkodási és menedzsment \nTovábbi tájékoztatók: \n11:20-11:25: HÖK képviselö tájékoztatója a Juttatásokról\, kollégiumi lehetöségekröl\n11:25-11:30: HÖK képviselö ismertetöje a Diákélet bemutatásáról\n11:30-11:35: Erasmus lehetöségek\n11:35-11:40: Kérdések – válaszok \n11:40-13.00: A Geoinformatikai Intézet épületének bejárása\, selmeci hagyományörzés\, laborlátogatás\, \nA program ideje alatt a duális képzésben érintett cégek egy része is lehetöséget biztosít a közvetlen kapcsolatfelvételre. \nOnline nyílt nap az Óbudai Egyetem székesfehérvári mesterképzéseinek a bemutatására\n(Bemutatkozik az Alba Regia Müszaki Kar és a Keleti Károly Gazdasági Kar)\nKérdezzenek szakfelelöseinktöl!
URL:https://amk.uni-obuda.hu/esemeny/nyilt-nap/
LOCATION:Székesfehérvár\, Pirosalma utca 1-3.\, Geoinformatikai Intézet\, nagyelőadó
CATEGORIES:Magyar
END:VEVENT
BEGIN:VEVENT
DTSTART;TZID=Europe/Budapest:20240115T170000
DTEND;TZID=Europe/Budapest:20240115T180000
DTSTAMP:20260420T123604
CREATED:20231214T151419Z
LAST-MODIFIED:20231214T151659Z
UID:9851-1705338000-1705341600@amk.uni-obuda.hu
SUMMARY:MSc online nyílt nap
DESCRIPTION:2024. január 15-én hétfön 17 órakor online nyílt napot tartunk a mesterképzéseinkröl.\nA 2024. szeptemberében induló képzéseinkre (Geoinformatika\, Mechatronikai mérnök\, Mérnökinformatikus\, Sportközgazdász) 2024. február 15-ig lehet a felvi.hu oldalon jelentkezni. \nAz online eseményre az alábbi linken lehet csatlakozni:\nhttps://www.amk.uni-obuda.hu/MSc \n 
URL:https://amk.uni-obuda.hu/esemeny/msc-online-nyilt-nap/
CATEGORIES:Magyar
END:VEVENT
END:VCALENDAR