BEGIN:VCALENDAR
VERSION:2.0
PRODID:-//Óbudai Egyetem Alba Regia Kar - ECPv6.15.15//NONSGML v1.0//EN
CALSCALE:GREGORIAN
METHOD:PUBLISH
X-ORIGINAL-URL:https://amk.uni-obuda.hu
X-WR-CALDESC:Események Óbudai Egyetem Alba Regia Kar
REFRESH-INTERVAL;VALUE=DURATION:PT1H
X-Robots-Tag:noindex
X-PUBLISHED-TTL:PT1H
BEGIN:VTIMEZONE
TZID:Europe/Budapest
BEGIN:DAYLIGHT
TZOFFSETFROM:+0100
TZOFFSETTO:+0200
TZNAME:CEST
DTSTART:20230326T010000
END:DAYLIGHT
BEGIN:STANDARD
TZOFFSETFROM:+0200
TZOFFSETTO:+0100
TZNAME:CET
DTSTART:20231029T010000
END:STANDARD
BEGIN:DAYLIGHT
TZOFFSETFROM:+0100
TZOFFSETTO:+0200
TZNAME:CEST
DTSTART:20240331T010000
END:DAYLIGHT
BEGIN:STANDARD
TZOFFSETFROM:+0200
TZOFFSETTO:+0100
TZNAME:CET
DTSTART:20241027T010000
END:STANDARD
BEGIN:DAYLIGHT
TZOFFSETFROM:+0100
TZOFFSETTO:+0200
TZNAME:CEST
DTSTART:20250330T010000
END:DAYLIGHT
BEGIN:STANDARD
TZOFFSETFROM:+0200
TZOFFSETTO:+0100
TZNAME:CET
DTSTART:20251026T010000
END:STANDARD
END:VTIMEZONE
BEGIN:VEVENT
DTSTART;TZID=Europe/Budapest:20240305T180000
DTEND;TZID=Europe/Budapest:20240305T200000
DTSTAMP:20260420T092545
CREATED:20240118T134504Z
LAST-MODIFIED:20240220T230742Z
UID:10166-1709661600-1709668800@amk.uni-obuda.hu
SUMMARY:Garai Géza Szabadegyetem
DESCRIPTION:
URL:https://amk.uni-obuda.hu/esemeny/garai-geza-szabadegyetem-2/
CATEGORIES:Magyar
END:VEVENT
BEGIN:VEVENT
DTSTART;TZID=Europe/Budapest:20240307T160000
DTEND;TZID=Europe/Budapest:20240307T180000
DTSTAMP:20260420T092545
CREATED:20240226T142600Z
LAST-MODIFIED:20240226T142731Z
UID:11582-1709827200-1709834400@amk.uni-obuda.hu
SUMMARY:INNOVATION WORLDWIDE előadássorozat
DESCRIPTION:INNOVATION WORLDWIDE előadássorozat első alkalom \nAz első idegen nyelvű előadás online lesz a Teamsen\, március 7-én\, szerdán 16 órakor. Az alábbi linken lehet belépni: \nhttps://teams.microsoft.com/l/meetup-join/19%3ameeting_OWJkNWUwZmYtZjk4MC00MTQ5LTkyNzMtYWYzZmI4MTQ5ZTUw%40thread.v2/0?context=%7b%22Tid%22%3a%221d6a56fa-705a-4bbc-8004-67a21d5e9b97%22%2c%22Oid%22%3a%222fe485a7-358a-41fc-a24e-8eec8405fe34%22%7d \nAz üzbegisztani TIIAME egyetem Bukhara Branch 4 professzora számol be kutatásairól 4 különböző témában. Itt található a program és az előadók ismertetése:
URL:https://amk.uni-obuda.hu/esemeny/innovation-worldwide-eloadassorozat/
CATEGORIES:Magyar
END:VEVENT
BEGIN:VEVENT
DTSTART;TZID=Europe/Budapest:20240312T100000
DTEND;TZID=Europe/Budapest:20240312T170000
DTSTAMP:20260420T092545
CREATED:20240209T091308Z
LAST-MODIFIED:20240306T085340Z
UID:11201-1710237600-1710262800@amk.uni-obuda.hu
SUMMARY:Állásbörze
DESCRIPTION:ÓE AMK Állásbörze a Budai út 45. K épületben \nhttps://allasborze.uni-obuda.hu/ \nONLINE Állásbörze Kalauz Székesfehérvár
URL:https://amk.uni-obuda.hu/esemeny/allasborze/
CATEGORIES:Magyar
END:VEVENT
BEGIN:VEVENT
DTSTART;TZID=Europe/Budapest:20240319T100000
DTEND;TZID=Europe/Budapest:20240319T110000
DTSTAMP:20260420T092545
CREATED:20240314T105815Z
LAST-MODIFIED:20240314T105855Z
UID:11772-1710842400-1710846000@amk.uni-obuda.hu
SUMMARY:Mikoviny Sámuel Szakkollégiumi előadás
DESCRIPTION:
URL:https://amk.uni-obuda.hu/esemeny/mikoviny-samuel-szakkollegiumi-eloadas/
END:VEVENT
BEGIN:VEVENT
DTSTART;TZID=Europe/Budapest:20240320T140000
DTEND;TZID=Europe/Budapest:20240320T180000
DTSTAMP:20260420T092545
CREATED:20240118T134629Z
LAST-MODIFIED:20240213T110724Z
UID:10170-1710943200-1710957600@amk.uni-obuda.hu
SUMMARY:AMK tavaszi tanár-diák közös túra
DESCRIPTION:Online jelentkezés
URL:https://amk.uni-obuda.hu/esemeny/garai-geza-szabadegyetem-4/
CATEGORIES:Magyar
END:VEVENT
BEGIN:VEVENT
DTSTART;TZID=Europe/Budapest:20240326T180000
DTEND;TZID=Europe/Budapest:20240326T200000
DTSTAMP:20260420T092545
CREATED:20240320T103705Z
LAST-MODIFIED:20240320T103738Z
UID:11792-1711476000-1711483200@amk.uni-obuda.hu
SUMMARY:„Bepillanthatunk a földkéreg mélységeibe”
DESCRIPTION:
URL:https://amk.uni-obuda.hu/esemeny/bepillanthatunk-a-foldkereg-melysegeibe/
END:VEVENT
END:VCALENDAR