BEGIN:VCALENDAR
VERSION:2.0
PRODID:-//Óbudai Egyetem Alba Regia Kar - ECPv6.15.15//NONSGML v1.0//EN
CALSCALE:GREGORIAN
METHOD:PUBLISH
X-WR-CALNAME:Óbudai Egyetem Alba Regia Kar
X-ORIGINAL-URL:https://amk.uni-obuda.hu
X-WR-CALDESC:Események Óbudai Egyetem Alba Regia Kar
REFRESH-INTERVAL;VALUE=DURATION:PT1H
X-Robots-Tag:noindex
X-PUBLISHED-TTL:PT1H
BEGIN:VTIMEZONE
TZID:Europe/Budapest
BEGIN:DAYLIGHT
TZOFFSETFROM:+0100
TZOFFSETTO:+0200
TZNAME:CEST
DTSTART:20230326T010000
END:DAYLIGHT
BEGIN:STANDARD
TZOFFSETFROM:+0200
TZOFFSETTO:+0100
TZNAME:CET
DTSTART:20231029T010000
END:STANDARD
BEGIN:DAYLIGHT
TZOFFSETFROM:+0100
TZOFFSETTO:+0200
TZNAME:CEST
DTSTART:20240331T010000
END:DAYLIGHT
BEGIN:STANDARD
TZOFFSETFROM:+0200
TZOFFSETTO:+0100
TZNAME:CET
DTSTART:20241027T010000
END:STANDARD
BEGIN:DAYLIGHT
TZOFFSETFROM:+0100
TZOFFSETTO:+0200
TZNAME:CEST
DTSTART:20250330T010000
END:DAYLIGHT
BEGIN:STANDARD
TZOFFSETFROM:+0200
TZOFFSETTO:+0100
TZNAME:CET
DTSTART:20251026T010000
END:STANDARD
END:VTIMEZONE
BEGIN:VEVENT
DTSTART;TZID=Europe/Budapest:20241001T133000
DTEND;TZID=Europe/Budapest:20241001T173000
DTSTAMP:20260419T231814
CREATED:20240919T113041Z
LAST-MODIFIED:20250307T105043Z
UID:14309-1727789400-1727803800@amk.uni-obuda.hu
SUMMARY:AMK őszi tanár-diák közös túra
DESCRIPTION:Sukoró\nBusz indulás: 13:30\, Hadiárva utca\nTalálkozó: Sukoró\, 14:00\, túra vége: 17:30
URL:https://amk.uni-obuda.hu/esemeny/amk-oszi-tanar-diak-kozos-tura/
CATEGORIES:Magyar
END:VEVENT
BEGIN:VEVENT
DTSTART;TZID=Europe/Budapest:20241001T180000
DTEND;TZID=Europe/Budapest:20241001T200000
DTSTAMP:20260419T231814
CREATED:20240611T065426Z
LAST-MODIFIED:20240921T172231Z
UID:12835-1727805600-1727812800@amk.uni-obuda.hu
SUMMARY:Garai Géza Szabadegyetem
DESCRIPTION:
URL:https://amk.uni-obuda.hu/esemeny/garai-geza-szabadegyetem-6/
CATEGORIES:Magyar
END:VEVENT
BEGIN:VEVENT
DTSTART;TZID=Europe/Budapest:20241002T193000
DTEND;TZID=Europe/Budapest:20241002T220000
DTSTAMP:20260419T231814
CREATED:20240919T113246Z
LAST-MODIFIED:20240923T081601Z
UID:14312-1727897400-1727906400@amk.uni-obuda.hu
SUMMARY:Moziest
DESCRIPTION:Kedves Hallgatók! \nAz Óbudai Egyetem AMK HÖK szeretettel meginvitál titeket egy Mozi Estre! \n Időpont: október 2. 19:30\n Helyszín: F-001 terem\, S épület\, Budai út 43. \nNe hagyjátok ki ezt az estét\, hozzátok magatokkal barátaitokat is\, és élvezzétek velünk együtt a vetítést! \nA választható filmekkel hamarosan érkezünk. \nA rendezvényre kérlek hozzatok ételt és italt. Illetve mikró lehetőséget biztosítunk. \nVárunk titeket szeretettel!\nÓbudai Egyetem AMK HÖK
URL:https://amk.uni-obuda.hu/esemeny/moziest/
CATEGORIES:Magyar
END:VEVENT
BEGIN:VEVENT
DTSTART;TZID=Europe/Budapest:20241004T080000
DTEND;TZID=Europe/Budapest:20241004T100000
DTSTAMP:20260419T231814
CREATED:20240719T080119Z
LAST-MODIFIED:20240927T210704Z
UID:13817-1728028800-1728036000@amk.uni-obuda.hu
SUMMARY:Online Webinar for Prospective Students
DESCRIPTION:Join to Teams Meeting \nhttps://www.amk.uni-obuda.hu/Geoinformatics_MSc
URL:https://amk.uni-obuda.hu/esemeny/online-webinar-for-prospective-students/
END:VEVENT
BEGIN:VEVENT
DTSTART;TZID=Europe/Budapest:20241009T130000
DTEND;TZID=Europe/Budapest:20241009T180000
DTSTAMP:20260419T231814
CREATED:20240919T102119Z
LAST-MODIFIED:20241007T134226Z
UID:14301-1728478800-1728496800@amk.uni-obuda.hu
SUMMARY:Sportnap 2024
DESCRIPTION:I. Óbudai Egyetem Alba Regia Kar Sportnap \n   \nJelentkezés csapatok részére:\nhttps://forms.office.com/e/61HLxUtCw1
URL:https://amk.uni-obuda.hu/esemeny/sportnap-2024/
CATEGORIES:Magyar
END:VEVENT
BEGIN:VEVENT
DTSTART;TZID=Europe/Budapest:20241030T170000
DTEND;TZID=Europe/Budapest:20241030T220000
DTSTAMP:20260419T231814
CREATED:20240919T113451Z
LAST-MODIFIED:20241025T144209Z
UID:14314-1730307600-1730325600@amk.uni-obuda.hu
SUMMARY:Intézeti est - 2024. ősz
DESCRIPTION:Budai út 45.\, K. épület\, 17:00 – 22:00\, utána Halloween party (N-Joy)
URL:https://amk.uni-obuda.hu/esemeny/intezetek-estje/
CATEGORIES:Magyar
END:VEVENT
END:VCALENDAR