BEGIN:VCALENDAR
VERSION:2.0
PRODID:-//Óbudai Egyetem Alba Regia Kar - ECPv6.15.15//NONSGML v1.0//EN
CALSCALE:GREGORIAN
METHOD:PUBLISH
X-WR-CALNAME:Óbudai Egyetem Alba Regia Kar
X-ORIGINAL-URL:https://amk.uni-obuda.hu
X-WR-CALDESC:Események Óbudai Egyetem Alba Regia Kar
REFRESH-INTERVAL;VALUE=DURATION:PT1H
X-Robots-Tag:noindex
X-PUBLISHED-TTL:PT1H
BEGIN:VTIMEZONE
TZID:Europe/Budapest
BEGIN:DAYLIGHT
TZOFFSETFROM:+0100
TZOFFSETTO:+0200
TZNAME:CEST
DTSTART:20230326T010000
END:DAYLIGHT
BEGIN:STANDARD
TZOFFSETFROM:+0200
TZOFFSETTO:+0100
TZNAME:CET
DTSTART:20231029T010000
END:STANDARD
BEGIN:DAYLIGHT
TZOFFSETFROM:+0100
TZOFFSETTO:+0200
TZNAME:CEST
DTSTART:20240331T010000
END:DAYLIGHT
BEGIN:STANDARD
TZOFFSETFROM:+0200
TZOFFSETTO:+0100
TZNAME:CET
DTSTART:20241027T010000
END:STANDARD
BEGIN:DAYLIGHT
TZOFFSETFROM:+0100
TZOFFSETTO:+0200
TZNAME:CEST
DTSTART:20250330T010000
END:DAYLIGHT
BEGIN:STANDARD
TZOFFSETFROM:+0200
TZOFFSETTO:+0100
TZNAME:CET
DTSTART:20251026T010000
END:STANDARD
BEGIN:DAYLIGHT
TZOFFSETFROM:+0100
TZOFFSETTO:+0200
TZNAME:CEST
DTSTART:20260329T010000
END:DAYLIGHT
BEGIN:STANDARD
TZOFFSETFROM:+0200
TZOFFSETTO:+0100
TZNAME:CET
DTSTART:20261025T010000
END:STANDARD
END:VTIMEZONE
BEGIN:VEVENT
DTSTART;TZID=Europe/Budapest:20240409T180000
DTEND;TZID=Europe/Budapest:20240409T200000
DTSTAMP:20260420T093143
CREATED:20240118T134538Z
LAST-MODIFIED:20240402T082332Z
UID:10168-1712685600-1712692800@amk.uni-obuda.hu
SUMMARY:Garai Géza Szabadegyetem
DESCRIPTION:
URL:https://amk.uni-obuda.hu/esemeny/garai-geza-szabadegyetem-3/
CATEGORIES:Magyar
END:VEVENT
BEGIN:VEVENT
DTSTART;TZID=Europe/Budapest:20240410T160000
DTEND;TZID=Europe/Budapest:20240410T220000
DTSTAMP:20260420T093143
CREATED:20240118T142426Z
LAST-MODIFIED:20240402T213609Z
UID:10183-1712764800-1712786400@amk.uni-obuda.hu
SUMMARY:Intézetek estje
DESCRIPTION:
URL:https://amk.uni-obuda.hu/esemeny/intezeti-est/
CATEGORIES:Magyar
END:VEVENT
BEGIN:VEVENT
DTSTART;VALUE=DATE:20240417
DTEND;VALUE=DATE:20240418
DTSTAMP:20260420T093143
CREATED:20240209T091450Z
LAST-MODIFIED:20240415T083519Z
UID:11203-1713312000-1713398399@amk.uni-obuda.hu
SUMMARY:Sportnap - ELHALASZTVA!
DESCRIPTION:Összegyetemi Fehérvári Sportnap \nA várható időjárásra tekintettel ELHALASZTVA.\nA program későbbi időpontban kerül megrendezésre. \nBregyó Sportcentrum\n8000 Székesfehérvár\, Bregyó köz
URL:https://amk.uni-obuda.hu/esemeny/sportnap/
CATEGORIES:Magyar
END:VEVENT
BEGIN:VEVENT
DTSTART;TZID=Europe/Budapest:20240418T100000
DTEND;TZID=Europe/Budapest:20240418T140000
DTSTAMP:20260420T093143
CREATED:20240118T144220Z
LAST-MODIFIED:20240408T081659Z
UID:10185-1713434400-1713448800@amk.uni-obuda.hu
SUMMARY:Duális Információs Nap
DESCRIPTION:
URL:https://amk.uni-obuda.hu/esemeny/dualis-tajekoztato-nap/
CATEGORIES:Magyar
END:VEVENT
BEGIN:VEVENT
DTSTART;TZID=Europe/Budapest:20240424T140000
DTEND;TZID=Europe/Budapest:20240424T173000
DTSTAMP:20260420T093143
CREATED:20240118T134325Z
LAST-MODIFIED:20240118T140738Z
UID:10163-1713967200-1713979800@amk.uni-obuda.hu
SUMMARY:Kari tavaszi TDK
DESCRIPTION:
URL:https://amk.uni-obuda.hu/esemeny/kari-tavaszi-tdk/
CATEGORIES:Magyar
END:VEVENT
BEGIN:VEVENT
DTSTART;VALUE=DATE:20240425
DTEND;VALUE=DATE:20240426
DTSTAMP:20260420T093143
CREATED:20240402T081730Z
LAST-MODIFIED:20240411T170402Z
UID:11987-1714003200-1714089599@amk.uni-obuda.hu
SUMMARY:Lányok Napja
DESCRIPTION:
URL:https://amk.uni-obuda.hu/esemeny/11987/
CATEGORIES:Magyar
END:VEVENT
BEGIN:VEVENT
DTSTART;TZID=Europe/Budapest:20240508T140000
DTEND;TZID=Europe/Budapest:20240508T190000
DTSTAMP:20260420T093143
CREATED:20240412T071015Z
LAST-MODIFIED:20240412T071015Z
UID:12173-1715176800-1715194800@amk.uni-obuda.hu
SUMMARY:AMK "Tókör kerékpár túra"
DESCRIPTION:
URL:https://amk.uni-obuda.hu/esemeny/amk-tokor-kerekpar-tura/
CATEGORIES:Magyar
END:VEVENT
BEGIN:VEVENT
DTSTART;VALUE=DATE:20240522
DTEND;VALUE=DATE:20240525
DTSTAMP:20260420T093143
CREATED:20240408T134149Z
LAST-MODIFIED:20240411T170720Z
UID:12103-1716336000-1716595199@amk.uni-obuda.hu
SUMMARY:GISopen 2024
DESCRIPTION:https://www.gisopen.hu/2024/ \nIdén ismételten megrendezzük a GISopen konferenciát\, immár 28-dik alkalommal a Kar Pirosalma utcai épületében. \nA konferencia időpontja: 2024. május 22-24. \nA konferencián – a hagyományoknak megfelelően – szakmánkról teljes képet szeretnénk bemutatni\, mind az oktatás\, kutatás\, fejlesztés\, mind a termelés szempontjából\, a szakmánk jövőjéről\, természetesen mindezt kiegészítve a jól bevált gasztronómiai\, kulturális kisérő programokkal. \nJelentkezési határidők \nRésztvevőként: 2024. május 21.\nElőadóként: 2024. március 31.\nKiállítóként: egyeztetés alapján
URL:https://amk.uni-obuda.hu/esemeny/gisopen-2024/
CATEGORIES:Magyar
END:VEVENT
BEGIN:VEVENT
DTSTART;VALUE=DATE:20240529
DTEND;VALUE=DATE:20240601
DTSTAMP:20260420T093143
CREATED:20240124T080030Z
LAST-MODIFIED:20240219T132024Z
UID:10266-1716940800-1717199999@amk.uni-obuda.hu
SUMMARY:XXI. Országos Sporttudományi Kongresszus
DESCRIPTION:https://mstt.hu/xxi-orszagos-sporttudomanyi-kongresszus/
URL:https://amk.uni-obuda.hu/esemeny/xxi-orszagos-sporttudomanyi-kongresszus/
CATEGORIES:Magyar
END:VEVENT
BEGIN:VEVENT
DTSTART;TZID=Europe/Budapest:20240610T130000
DTEND;TZID=Europe/Budapest:20240610T160000
DTSTAMP:20260420T093143
CREATED:20240603T063113Z
LAST-MODIFIED:20240603T063122Z
UID:12803-1718024400-1718035200@amk.uni-obuda.hu
SUMMARY:TDK Orientációs délután
DESCRIPTION:
URL:https://amk.uni-obuda.hu/esemeny/tdk-orientacios-delutan/
CATEGORIES:Magyar
END:VEVENT
BEGIN:VEVENT
DTSTART;VALUE=DATE:20240627
DTEND;VALUE=DATE:20240628
DTSTAMP:20260420T093143
CREATED:20240209T090739Z
LAST-MODIFIED:20240219T132031Z
UID:11199-1719446400-1719532799@amk.uni-obuda.hu
SUMMARY:10 éves Jubileumi rendezvény
DESCRIPTION:
URL:https://amk.uni-obuda.hu/esemeny/10-eves-jubileumi-rendezveny/
CATEGORIES:Magyar
END:VEVENT
BEGIN:VEVENT
DTSTART;TZID=Europe/Budapest:20240628T110000
DTEND;TZID=Europe/Budapest:20240628T130000
DTSTAMP:20260420T093143
CREATED:20240118T140210Z
LAST-MODIFIED:20240612T082225Z
UID:10176-1719572400-1719579600@amk.uni-obuda.hu
SUMMARY:Diplomaátadó ünnepség
DESCRIPTION:
URL:https://amk.uni-obuda.hu/esemeny/diplomaatado-unnepseg/
CATEGORIES:Magyar
END:VEVENT
BEGIN:VEVENT
DTSTART;TZID=Europe/Budapest:20240924T100000
DTEND;TZID=Europe/Budapest:20240924T160000
DTSTAMP:20260420T093143
CREATED:20240805T080847Z
LAST-MODIFIED:20240913T081204Z
UID:13863-1727172000-1727193600@amk.uni-obuda.hu
SUMMARY:Állásbörze
DESCRIPTION:https://oeallasborze.hu/
URL:https://amk.uni-obuda.hu/esemeny/allasborze-2/
CATEGORIES:Magyar
END:VEVENT
BEGIN:VEVENT
DTSTART;TZID=Europe/Budapest:20240927T160000
DTEND;TZID=Europe/Budapest:20240927T220000
DTSTAMP:20260420T093143
CREATED:20240913T002503Z
LAST-MODIFIED:20240916T074815Z
UID:14262-1727452800-1727474400@amk.uni-obuda.hu
SUMMARY:Kutatók éjszakája 2024
DESCRIPTION:Kutatók éjszakája hivatalos weboldal – programok részletesen
URL:https://amk.uni-obuda.hu/esemeny/kutatok-ejszakaja-2024/
CATEGORIES:Magyar
END:VEVENT
BEGIN:VEVENT
DTSTART;TZID=Europe/Budapest:20241001T133000
DTEND;TZID=Europe/Budapest:20241001T173000
DTSTAMP:20260420T093143
CREATED:20240919T113041Z
LAST-MODIFIED:20250307T105043Z
UID:14309-1727789400-1727803800@amk.uni-obuda.hu
SUMMARY:AMK őszi tanár-diák közös túra
DESCRIPTION:Sukoró\nBusz indulás: 13:30\, Hadiárva utca\nTalálkozó: Sukoró\, 14:00\, túra vége: 17:30
URL:https://amk.uni-obuda.hu/esemeny/amk-oszi-tanar-diak-kozos-tura/
CATEGORIES:Magyar
END:VEVENT
BEGIN:VEVENT
DTSTART;TZID=Europe/Budapest:20241001T180000
DTEND;TZID=Europe/Budapest:20241001T200000
DTSTAMP:20260420T093143
CREATED:20240611T065426Z
LAST-MODIFIED:20240921T172231Z
UID:12835-1727805600-1727812800@amk.uni-obuda.hu
SUMMARY:Garai Géza Szabadegyetem
DESCRIPTION:
URL:https://amk.uni-obuda.hu/esemeny/garai-geza-szabadegyetem-6/
CATEGORIES:Magyar
END:VEVENT
BEGIN:VEVENT
DTSTART;TZID=Europe/Budapest:20241002T193000
DTEND;TZID=Europe/Budapest:20241002T220000
DTSTAMP:20260420T093143
CREATED:20240919T113246Z
LAST-MODIFIED:20240923T081601Z
UID:14312-1727897400-1727906400@amk.uni-obuda.hu
SUMMARY:Moziest
DESCRIPTION:Kedves Hallgatók! \nAz Óbudai Egyetem AMK HÖK szeretettel meginvitál titeket egy Mozi Estre! \n Időpont: október 2. 19:30\n Helyszín: F-001 terem\, S épület\, Budai út 43. \nNe hagyjátok ki ezt az estét\, hozzátok magatokkal barátaitokat is\, és élvezzétek velünk együtt a vetítést! \nA választható filmekkel hamarosan érkezünk. \nA rendezvényre kérlek hozzatok ételt és italt. Illetve mikró lehetőséget biztosítunk. \nVárunk titeket szeretettel!\nÓbudai Egyetem AMK HÖK
URL:https://amk.uni-obuda.hu/esemeny/moziest/
CATEGORIES:Magyar
END:VEVENT
BEGIN:VEVENT
DTSTART;TZID=Europe/Budapest:20241004T080000
DTEND;TZID=Europe/Budapest:20241004T100000
DTSTAMP:20260420T093143
CREATED:20240719T080119Z
LAST-MODIFIED:20240927T210704Z
UID:13817-1728028800-1728036000@amk.uni-obuda.hu
SUMMARY:Online Webinar for Prospective Students
DESCRIPTION:Join to Teams Meeting \nhttps://www.amk.uni-obuda.hu/Geoinformatics_MSc
URL:https://amk.uni-obuda.hu/esemeny/online-webinar-for-prospective-students/
END:VEVENT
BEGIN:VEVENT
DTSTART;TZID=Europe/Budapest:20241009T130000
DTEND;TZID=Europe/Budapest:20241009T180000
DTSTAMP:20260420T093143
CREATED:20240919T102119Z
LAST-MODIFIED:20241007T134226Z
UID:14301-1728478800-1728496800@amk.uni-obuda.hu
SUMMARY:Sportnap 2024
DESCRIPTION:I. Óbudai Egyetem Alba Regia Kar Sportnap \n   \nJelentkezés csapatok részére:\nhttps://forms.office.com/e/61HLxUtCw1
URL:https://amk.uni-obuda.hu/esemeny/sportnap-2024/
CATEGORIES:Magyar
END:VEVENT
BEGIN:VEVENT
DTSTART;TZID=Europe/Budapest:20241030T170000
DTEND;TZID=Europe/Budapest:20241030T220000
DTSTAMP:20260420T093143
CREATED:20240919T113451Z
LAST-MODIFIED:20241025T144209Z
UID:14314-1730307600-1730325600@amk.uni-obuda.hu
SUMMARY:Intézeti est - 2024. ősz
DESCRIPTION:Budai út 45.\, K. épület\, 17:00 – 22:00\, utána Halloween party (N-Joy)
URL:https://amk.uni-obuda.hu/esemeny/intezetek-estje/
CATEGORIES:Magyar
END:VEVENT
BEGIN:VEVENT
DTSTART;TZID=Europe/Budapest:20241105T180000
DTEND;TZID=Europe/Budapest:20241105T200000
DTSTAMP:20260420T093143
CREATED:20240611T065512Z
LAST-MODIFIED:20241027T210938Z
UID:12837-1730829600-1730836800@amk.uni-obuda.hu
SUMMARY:Garai Géza Szabadegyetem
DESCRIPTION:
URL:https://amk.uni-obuda.hu/esemeny/garai-geza-szabadegyetem-7/
CATEGORIES:Magyar
END:VEVENT
BEGIN:VEVENT
DTSTART;TZID=Europe/Budapest:20241106T180000
DTEND;TZID=Europe/Budapest:20241106T230000
DTSTAMP:20260420T093143
CREATED:20240919T113654Z
LAST-MODIFIED:20240919T113700Z
UID:14317-1730916000-1730934000@amk.uni-obuda.hu
SUMMARY:Gólyabál
DESCRIPTION:Szent István Művelődési Ház
URL:https://amk.uni-obuda.hu/esemeny/golyabal/
CATEGORIES:Magyar
END:VEVENT
BEGIN:VEVENT
DTSTART;TZID=Europe/Budapest:20241113T140000
DTEND;TZID=Europe/Budapest:20241113T163000
DTSTAMP:20260420T093143
CREATED:20241111T002624Z
LAST-MODIFIED:20241111T002703Z
UID:15194-1731506400-1731515400@amk.uni-obuda.hu
SUMMARY:ÓE AMK kari TDK - 2024. ősz
DESCRIPTION:2024. november 13. 1400\nBudai út 43. C1\n015. terem \nProgram
URL:https://amk.uni-obuda.hu/esemeny/oe-amk-kari-tdk-2024-osz/
CATEGORIES:Magyar
END:VEVENT
BEGIN:VEVENT
DTSTART;TZID=Europe/Budapest:20241114T090000
DTEND;TZID=Europe/Budapest:20241114T170000
DTSTAMP:20260420T093143
CREATED:20240619T103315Z
LAST-MODIFIED:20241111T002032Z
UID:12946-1731574800-1731603600@amk.uni-obuda.hu
SUMMARY:AIS 2024 Konferencia
DESCRIPTION:A konferencia hivatalos honlapja: \nhttp://ais.amk.uni-obuda.hu/ \n 
URL:https://amk.uni-obuda.hu/esemeny/ais-2024-konferencia/
CATEGORIES:Magyar
END:VEVENT
BEGIN:VEVENT
DTSTART;TZID=Europe/Budapest:20241120T100000
DTEND;TZID=Europe/Budapest:20241120T130000
DTSTAMP:20260420T093143
CREATED:20241111T002922Z
LAST-MODIFIED:20241111T003055Z
UID:15197-1732096800-1732107600@amk.uni-obuda.hu
SUMMARY:Térinformatika Napja
DESCRIPTION:Időpont: 2024. november 20.\, szerda\, 10:00-13:00\nHelyszín: Óbudai Egyetem Alba Regia Kar\, Geoinformatikai Intézet\nSzékesfehérvár\, Pirosalma utca 1-3. \nhttp://gisday.amk.uni-obuda.hu/
URL:https://amk.uni-obuda.hu/esemeny/terinformatika-napja/
CATEGORIES:Magyar
END:VEVENT
BEGIN:VEVENT
DTSTART;TZID=Europe/Budapest:20241203T180000
DTEND;TZID=Europe/Budapest:20241203T200000
DTSTAMP:20260420T093143
CREATED:20240611T065533Z
LAST-MODIFIED:20241111T002115Z
UID:12839-1733248800-1733256000@amk.uni-obuda.hu
SUMMARY:Garai Géza Szabadegyetem
DESCRIPTION:
URL:https://amk.uni-obuda.hu/esemeny/garai-geza-szabadegyetem-8/
CATEGORIES:Magyar
END:VEVENT
BEGIN:VEVENT
DTSTART;TZID=Europe/Budapest:20241212T140000
DTEND;TZID=Europe/Budapest:20241212T160000
DTSTAMP:20260420T093143
CREATED:20241127T100036Z
LAST-MODIFIED:20241127T100759Z
UID:15317-1734012000-1734019200@amk.uni-obuda.hu
SUMMARY:AMK Amatőr Erőemelő verseny
DESCRIPTION:Kedves Hallgatók! Ajánlunk egy kis sportversenyt a sok tanulás mellé! AMK Amatőr Erőemelő verseny \n\n\n\nIdőpont: 2024. december 12. (csütörtök) 14:30 /bemelegítés\, nevezés 14 órától/ Helyszín: az AMK konditerme (Budai út 45.\, K épület\, alagsor) Résztvevők: minden AMK-s\, ki a verseny előtt a helyszínen benevez \n\nRészletek…
URL:https://amk.uni-obuda.hu/esemeny/amk-amator-eroemelo-verseny/
CATEGORIES:Magyar
END:VEVENT
BEGIN:VEVENT
DTSTART;TZID=Europe/Budapest:20241213T100000
DTEND;TZID=Europe/Budapest:20241213T130000
DTSTAMP:20260420T093143
CREATED:20240919T113836Z
LAST-MODIFIED:20241202T085405Z
UID:14319-1734084000-1734094800@amk.uni-obuda.hu
SUMMARY:Nyílt nap
DESCRIPTION:Budai út 43.\, C1 épület\,  10:00 – 13:00 \nInformációk a nyílt napról
URL:https://amk.uni-obuda.hu/esemeny/nyilt-nap-2/
CATEGORIES:Magyar
END:VEVENT
BEGIN:VEVENT
DTSTART;TZID=Europe/Budapest:20241213T130000
DTEND;TZID=Europe/Budapest:20241213T140000
DTSTAMP:20260420T093143
CREATED:20241204T093018Z
LAST-MODIFIED:20241204T132757Z
UID:15370-1734094800-1734098400@amk.uni-obuda.hu
SUMMARY:Online tájékoztató a mesterképzésekről (MSc)
DESCRIPTION:https://www.amk.uni-obuda.hu/MSc
URL:https://amk.uni-obuda.hu/esemeny/online-tajekoztato-a-mesterkepzesekrol-msc/
CATEGORIES:Magyar
END:VEVENT
BEGIN:VEVENT
DTSTART;TZID=Europe/Budapest:20250204T160000
DTEND;TZID=Europe/Budapest:20250204T180000
DTSTAMP:20260420T093143
CREATED:20250127T142819Z
LAST-MODIFIED:20250127T143017Z
UID:15721-1738684800-1738692000@amk.uni-obuda.hu
SUMMARY:Sportközgazdász mesterszak online tájékoztató
DESCRIPTION:https://www.amk.uni-obuda.hu/MSc
URL:https://amk.uni-obuda.hu/esemeny/sportkozgazdasz-mesterszak-online-tajekoztato/
CATEGORIES:Magyar
END:VEVENT
END:VCALENDAR