BEGIN:VCALENDAR
VERSION:2.0
PRODID:-//Óbudai Egyetem Alba Regia Kar - ECPv6.15.15//NONSGML v1.0//EN
CALSCALE:GREGORIAN
METHOD:PUBLISH
X-ORIGINAL-URL:https://amk.uni-obuda.hu
X-WR-CALDESC:Események Óbudai Egyetem Alba Regia Kar
REFRESH-INTERVAL;VALUE=DURATION:PT1H
X-Robots-Tag:noindex
X-PUBLISHED-TTL:PT1H
BEGIN:VTIMEZONE
TZID:Europe/Budapest
BEGIN:DAYLIGHT
TZOFFSETFROM:+0100
TZOFFSETTO:+0200
TZNAME:CEST
DTSTART:20230326T010000
END:DAYLIGHT
BEGIN:STANDARD
TZOFFSETFROM:+0200
TZOFFSETTO:+0100
TZNAME:CET
DTSTART:20231029T010000
END:STANDARD
BEGIN:DAYLIGHT
TZOFFSETFROM:+0100
TZOFFSETTO:+0200
TZNAME:CEST
DTSTART:20240331T010000
END:DAYLIGHT
BEGIN:STANDARD
TZOFFSETFROM:+0200
TZOFFSETTO:+0100
TZNAME:CET
DTSTART:20241027T010000
END:STANDARD
BEGIN:DAYLIGHT
TZOFFSETFROM:+0100
TZOFFSETTO:+0200
TZNAME:CEST
DTSTART:20250330T010000
END:DAYLIGHT
BEGIN:STANDARD
TZOFFSETFROM:+0200
TZOFFSETTO:+0100
TZNAME:CET
DTSTART:20251026T010000
END:STANDARD
BEGIN:DAYLIGHT
TZOFFSETFROM:+0100
TZOFFSETTO:+0200
TZNAME:CEST
DTSTART:20260329T010000
END:DAYLIGHT
BEGIN:STANDARD
TZOFFSETFROM:+0200
TZOFFSETTO:+0100
TZNAME:CET
DTSTART:20261025T010000
END:STANDARD
END:VTIMEZONE
BEGIN:VEVENT
DTSTART;TZID=Europe/Budapest:20241120T100000
DTEND;TZID=Europe/Budapest:20241120T130000
DTSTAMP:20260420T034740
CREATED:20241111T002922Z
LAST-MODIFIED:20241111T003055Z
UID:15197-1732096800-1732107600@amk.uni-obuda.hu
SUMMARY:Térinformatika Napja
DESCRIPTION:Időpont: 2024. november 20.\, szerda\, 10:00-13:00\nHelyszín: Óbudai Egyetem Alba Regia Kar\, Geoinformatikai Intézet\nSzékesfehérvár\, Pirosalma utca 1-3. \nhttp://gisday.amk.uni-obuda.hu/
URL:https://amk.uni-obuda.hu/esemeny/terinformatika-napja/
CATEGORIES:Magyar
END:VEVENT
BEGIN:VEVENT
DTSTART;TZID=Europe/Budapest:20241203T180000
DTEND;TZID=Europe/Budapest:20241203T200000
DTSTAMP:20260420T034740
CREATED:20240611T065533Z
LAST-MODIFIED:20241111T002115Z
UID:12839-1733248800-1733256000@amk.uni-obuda.hu
SUMMARY:Garai Géza Szabadegyetem
DESCRIPTION:
URL:https://amk.uni-obuda.hu/esemeny/garai-geza-szabadegyetem-8/
CATEGORIES:Magyar
END:VEVENT
BEGIN:VEVENT
DTSTART;TZID=Europe/Budapest:20241212T140000
DTEND;TZID=Europe/Budapest:20241212T160000
DTSTAMP:20260420T034740
CREATED:20241127T100036Z
LAST-MODIFIED:20241127T100759Z
UID:15317-1734012000-1734019200@amk.uni-obuda.hu
SUMMARY:AMK Amatőr Erőemelő verseny
DESCRIPTION:Kedves Hallgatók! Ajánlunk egy kis sportversenyt a sok tanulás mellé! AMK Amatőr Erőemelő verseny \n\n\n\nIdőpont: 2024. december 12. (csütörtök) 14:30 /bemelegítés\, nevezés 14 órától/ Helyszín: az AMK konditerme (Budai út 45.\, K épület\, alagsor) Résztvevők: minden AMK-s\, ki a verseny előtt a helyszínen benevez \n\nRészletek…
URL:https://amk.uni-obuda.hu/esemeny/amk-amator-eroemelo-verseny/
CATEGORIES:Magyar
END:VEVENT
BEGIN:VEVENT
DTSTART;TZID=Europe/Budapest:20241213T100000
DTEND;TZID=Europe/Budapest:20241213T130000
DTSTAMP:20260420T034740
CREATED:20240919T113836Z
LAST-MODIFIED:20241202T085405Z
UID:14319-1734084000-1734094800@amk.uni-obuda.hu
SUMMARY:Nyílt nap
DESCRIPTION:Budai út 43.\, C1 épület\,  10:00 – 13:00 \nInformációk a nyílt napról
URL:https://amk.uni-obuda.hu/esemeny/nyilt-nap-2/
CATEGORIES:Magyar
END:VEVENT
BEGIN:VEVENT
DTSTART;TZID=Europe/Budapest:20241213T130000
DTEND;TZID=Europe/Budapest:20241213T140000
DTSTAMP:20260420T034740
CREATED:20241204T093018Z
LAST-MODIFIED:20241204T132757Z
UID:15370-1734094800-1734098400@amk.uni-obuda.hu
SUMMARY:Online tájékoztató a mesterképzésekről (MSc)
DESCRIPTION:https://www.amk.uni-obuda.hu/MSc
URL:https://amk.uni-obuda.hu/esemeny/online-tajekoztato-a-mesterkepzesekrol-msc/
CATEGORIES:Magyar
END:VEVENT
BEGIN:VEVENT
DTSTART;TZID=Europe/Budapest:20250204T160000
DTEND;TZID=Europe/Budapest:20250204T180000
DTSTAMP:20260420T034740
CREATED:20250127T142819Z
LAST-MODIFIED:20250127T143017Z
UID:15721-1738684800-1738692000@amk.uni-obuda.hu
SUMMARY:Sportközgazdász mesterszak online tájékoztató
DESCRIPTION:https://www.amk.uni-obuda.hu/MSc
URL:https://amk.uni-obuda.hu/esemeny/sportkozgazdasz-mesterszak-online-tajekoztato/
CATEGORIES:Magyar
END:VEVENT
BEGIN:VEVENT
DTSTART;TZID=Europe/Budapest:20250205T080000
DTEND;TZID=Europe/Budapest:20250205T100000
DTSTAMP:20260420T034740
CREATED:20240719T080218Z
LAST-MODIFIED:20250130T094633Z
UID:13821-1738742400-1738749600@amk.uni-obuda.hu
SUMMARY:Online Webinar for Prospective Students
DESCRIPTION:https://www.amk.uni-obuda.hu/Geoinformatics_MSc
URL:https://amk.uni-obuda.hu/esemeny/online-webinar-for-prospective-students-2/
CATEGORIES:Magyar
END:VEVENT
BEGIN:VEVENT
DTSTART;TZID=Europe/Budapest:20250311T180000
DTEND;TZID=Europe/Budapest:20250311T200000
DTSTAMP:20260420T034740
CREATED:20250110T083259Z
LAST-MODIFIED:20250224T135431Z
UID:15584-1741716000-1741723200@amk.uni-obuda.hu
SUMMARY:Garai Géza Szabadegyetem
DESCRIPTION:
URL:https://amk.uni-obuda.hu/esemeny/garai-geza-szabadegyetem-9/
CATEGORIES:Magyar
END:VEVENT
BEGIN:VEVENT
DTSTART;TZID=Europe/Budapest:20250325T100000
DTEND;TZID=Europe/Budapest:20250325T160000
DTSTAMP:20260420T034740
CREATED:20250324T094407Z
LAST-MODIFIED:20250324T094535Z
UID:16323-1742896800-1742918400@amk.uni-obuda.hu
SUMMARY:Állásbörze
DESCRIPTION:Óbudai Egyetem Állásbörze Székesfehérváron! \n\n\n\nKészen állsz a karriered elindítására? Ne felejtsd el hozni a CV-det és találkozz a legjobb cégekkel! 💼 \n\n\n\n📅 Időpont: 03.25. 📍 Helyszín: Budai út 45. K épület \n\n\n\n🔗 Regisztrálj most: 👉 allasborze.uni-obuda.hu/register \n\n\n\nOtt találkozunk! 😉
URL:https://amk.uni-obuda.hu/esemeny/allasborze-3/
CATEGORIES:Magyar
END:VEVENT
BEGIN:VEVENT
DTSTART;TZID=Europe/Budapest:20250403T150000
DTEND;TZID=Europe/Budapest:20250403T170000
DTSTAMP:20260420T034740
CREATED:20250319T123452Z
LAST-MODIFIED:20250319T123452Z
UID:16299-1743692400-1743699600@amk.uni-obuda.hu
SUMMARY:Mikoviny Sámuel Szakkollégium előadás
DESCRIPTION:Kedves Hallgatók! \n Várunk mindenkit a Mikoviny Sámuel Szakkollégium Következő\, „FAO land tenure work in Europe and Central Asia” című előadására. \nAz előadó Morten Hartvigsen Az ENSZ Élelmezésügyi és Mezőgazdasági Világszervezetének Európai és Közép-Ázsiai Prioritási Program Koordinátora lesz. \nAz időpont 2025. április 3.\, 15:00 óra\, helyszín Pirosalma utcai épület\, Tanácsterem. \nAz előadás egyben az Innovation Worldwide tantárgy előadássorozatának része.
URL:https://amk.uni-obuda.hu/esemeny/mikoviny-samuel-szakkollegium-eloadas/
CATEGORIES:Magyar
END:VEVENT
BEGIN:VEVENT
DTSTART;TZID=Europe/Budapest:20250408T180000
DTEND;TZID=Europe/Budapest:20250408T200000
DTSTAMP:20260420T034740
CREATED:20250326T091247Z
LAST-MODIFIED:20250326T091247Z
UID:16344-1744135200-1744142400@amk.uni-obuda.hu
SUMMARY:Garai Géza Szabadegyetem
DESCRIPTION:
URL:https://amk.uni-obuda.hu/esemeny/garai-geza-szabadegyetem-12/
CATEGORIES:Magyar
END:VEVENT
BEGIN:VEVENT
DTSTART;TZID=Europe/Budapest:20250410T083000
DTEND;TZID=Europe/Budapest:20250410T130000
DTSTAMP:20260420T034740
CREATED:20250312T082506Z
LAST-MODIFIED:20250312T082506Z
UID:16179-1744273800-1744290000@amk.uni-obuda.hu
SUMMARY:Lányok Napja
DESCRIPTION:
URL:https://amk.uni-obuda.hu/esemeny/lanyok-napja/
CATEGORIES:Magyar
END:VEVENT
BEGIN:VEVENT
DTSTART;TZID=Europe/Budapest:20250410T100000
DTEND;TZID=Europe/Budapest:20250410T140000
DTSTAMP:20260420T034740
CREATED:20250128T090312Z
LAST-MODIFIED:20250128T121424Z
UID:15734-1744279200-1744293600@amk.uni-obuda.hu
SUMMARY:Duális Információs Nap
DESCRIPTION:
URL:https://amk.uni-obuda.hu/esemeny/dualis-informacios-nap/
CATEGORIES:Magyar
END:VEVENT
BEGIN:VEVENT
DTSTART;TZID=Europe/Budapest:20250415T140000
DTEND;TZID=Europe/Budapest:20250415T173000
DTSTAMP:20260420T034740
CREATED:20250307T104728Z
LAST-MODIFIED:20250307T105441Z
UID:16160-1744725600-1744738200@amk.uni-obuda.hu
SUMMARY:AMK tavaszi tanár-diák közös túra
DESCRIPTION:Sukoró\nBusz indulás: 13:30\, Hadiárva utca\nTalálkozó: Sukoró\, 14:00\, túra vége: 17:30\nJelentkezés: https://forms.office.com/e/s01AnpCgk4
URL:https://amk.uni-obuda.hu/esemeny/amk-tavaszi-tanar-diak-kozos-tura/
CATEGORIES:Magyar
END:VEVENT
BEGIN:VEVENT
DTSTART;TZID=Europe/Budapest:20250428T094500
DTEND;TZID=Europe/Budapest:20250428T130000
DTSTAMP:20260420T034740
CREATED:20250424T082515Z
LAST-MODIFIED:20250424T082515Z
UID:16566-1745833500-1745845200@amk.uni-obuda.hu
SUMMARY:Innovation worldwide tantárgy 1-2. előadás
DESCRIPTION:Innovation worldwide tantárgy előadásai\nLectures of Innovation Worldwide subject \n1. 28th April 2025\n9.45 – 11.15 – Natalia Kuznetzova Data analyses\, artificial intelligence I.\nBudai Str. 43. S1 009 \n2. 28th April 2025\n11.30 – 13.00 – Natalia Kuznetzova Data analyses\, artificial intelligence II.\nBudai Str. 43. S1 009
URL:https://amk.uni-obuda.hu/esemeny/innovation-worldwide-tantargy-1-2-eloadas/
CATEGORIES:Magyar
END:VEVENT
BEGIN:VEVENT
DTSTART;TZID=Europe/Budapest:20250429T160000
DTEND;TZID=Europe/Budapest:20250429T220000
DTSTAMP:20260420T034740
CREATED:20250307T094114Z
LAST-MODIFIED:20250307T094114Z
UID:16157-1745942400-1745964000@amk.uni-obuda.hu
SUMMARY:Intézetek estje
DESCRIPTION:
URL:https://amk.uni-obuda.hu/esemeny/intezetek-estje-2/
CATEGORIES:Magyar
END:VEVENT
BEGIN:VEVENT
DTSTART;TZID=Europe/Budapest:20250506T130000
DTEND;TZID=Europe/Budapest:20250506T180000
DTSTAMP:20260420T034740
CREATED:20250425T071041Z
LAST-MODIFIED:20250425T071424Z
UID:16601-1746536400-1746554400@amk.uni-obuda.hu
SUMMARY:Sportnap
DESCRIPTION:Helyszín: Bregyó Sportcentrum\, Székesfehérvár
URL:https://amk.uni-obuda.hu/esemeny/sportnap-2/
CATEGORIES:Magyar
END:VEVENT
BEGIN:VEVENT
DTSTART;TZID=Europe/Budapest:20250507T140000
DTEND;TZID=Europe/Budapest:20250507T170000
DTSTAMP:20260420T034740
CREATED:20250425T071140Z
LAST-MODIFIED:20250425T071140Z
UID:16603-1746626400-1746637200@amk.uni-obuda.hu
SUMMARY:Kari TDK
DESCRIPTION:Májusban TDK
URL:https://amk.uni-obuda.hu/esemeny/kari-tdk/
CATEGORIES:Magyar
END:VEVENT
BEGIN:VEVENT
DTSTART;TZID=Europe/Budapest:20250625T110000
DTEND;TZID=Europe/Budapest:20250625T130000
DTSTAMP:20260420T034740
CREATED:20250319T092349Z
LAST-MODIFIED:20250605T124554Z
UID:16295-1750849200-1750856400@amk.uni-obuda.hu
SUMMARY:Emlékoklevelek átadó ünnepsége 2025
DESCRIPTION:Időpont: 2025. június 25.\, 11 óra\nHelyszín: Székesfehérvár MJV Polgármesteri Hivatal\, Díszterem.\n                 (8000 Székesfehérvár\, Városház tér 1.)
URL:https://amk.uni-obuda.hu/esemeny/emlekoklevelek-atado-unnepsege-2025/
CATEGORIES:Magyar
END:VEVENT
BEGIN:VEVENT
DTSTART;TZID=Europe/Budapest:20250711T160000
DTEND;TZID=Europe/Budapest:20250711T180000
DTSTAMP:20260420T034740
CREATED:20250110T083511Z
LAST-MODIFIED:20250710T230745Z
UID:15590-1752249600-1752256800@amk.uni-obuda.hu
SUMMARY:Diplomaátadó ünnepség
DESCRIPTION:Helyszín: Székesfehérvár\, Budai út 43.\, C1 épület\nIdőpont: 2025. július 11. 16:00
URL:https://amk.uni-obuda.hu/esemeny/diplomaatado-unnepseg-2/
CATEGORIES:Magyar
END:VEVENT
BEGIN:VEVENT
DTSTART;TZID=Europe/Budapest:20250806T170000
DTEND;TZID=Europe/Budapest:20250806T220000
DTSTAMP:20260420T034740
CREATED:20250725T092457Z
LAST-MODIFIED:20250725T092625Z
UID:18486-1754499600-1754517600@amk.uni-obuda.hu
SUMMARY:Gólyatali 2025
DESCRIPTION:Kedves Gólyák! \n\n\n\nElőször is gratulálunk a bejutáshoz! \n\n\n\nElső ÓE-s eseményetekként készülünk Nektek egy talival\, még a Gólyatábor előtt\, ahol jobban meg tudjátok ismerni egymást és minket. \n\n\n\nMire számíthattok? Készülünk sok-sok ismerkedős játékkal\, GT-re hangolódó mókázással és megismerhetitek pár öreg rutinos róka trükkjeit\, tapasztalatait és sztorijait. Gyülekezés 17:00-től Geo Kollégium előtt. Koliban megkezdjük az ismerkedést\, majd utána átvonulunk egy fakultatív afterre a Múzeum Café-ba – ahol a játékok utáni fáradtságot ki tudjuk pihenni egy kis művelődéssel. Kérlek\, töltsétek ki a regisztrációs formot\, hogy tudjuk\, hány főre számíthatunk: https://forms.gle/9swquA75vPLFgss79 \n\n\n\nMi már nagyon várjuk a találkozást veletek! \nÜdvözlettel: AMK HÖK csapata \nHelyszín: 8000 Székesfehérvár\, Hosszúsétatér 8.Időpont: augusztus 6. 17:00 \n\n\n\nEz az esemény linkje: https://fb.me/e/3pngqz5C0
URL:https://amk.uni-obuda.hu/esemeny/golyatali-2025/
CATEGORIES:Magyar
END:VEVENT
BEGIN:VEVENT
DTSTART;VALUE=DATE:20250901
DTEND;VALUE=DATE:20250906
DTSTAMP:20260420T034740
CREATED:20250822T083239Z
LAST-MODIFIED:20250822T083245Z
UID:18529-1756684800-1757116799@amk.uni-obuda.hu
SUMMARY:REG FEST 2025
DESCRIPTION:Regisztrációs hét 2025. \nA program letölthető itt!
URL:https://amk.uni-obuda.hu/esemeny/reg-fest-2025/
CATEGORIES:Magyar
END:VEVENT
BEGIN:VEVENT
DTSTART;TZID=Europe/Budapest:20250903T170000
DTEND;TZID=Europe/Budapest:20250903T190000
DTSTAMP:20260420T034740
CREATED:20250822T084738Z
LAST-MODIFIED:20250822T085056Z
UID:18533-1756918800-1756926000@amk.uni-obuda.hu
SUMMARY:Tanévnyitó és Gólyatúra
DESCRIPTION:Összegyetemi Tanévnyitó és Gólyatúra – önkormányzati szervezés a HÖK-el együttműködésben\nIdőpont: 09.03.\, 17.00\nHelyszín: Mercure Szekesfehervar Magyar Kiraly előtti téren.
URL:https://amk.uni-obuda.hu/esemeny/osszegyetemi-tanevnyito-es-golyatura/
CATEGORIES:Magyar
END:VEVENT
BEGIN:VEVENT
DTSTART;TZID=Europe/Budapest:20250905T100000
DTEND;TZID=Europe/Budapest:20250905T120000
DTSTAMP:20260420T034740
CREATED:20250828T102923Z
LAST-MODIFIED:20250828T103158Z
UID:18565-1757066400-1757073600@amk.uni-obuda.hu
SUMMARY:Duális Webinárium
DESCRIPTION:
URL:https://amk.uni-obuda.hu/esemeny/dualis-webinarium/
CATEGORIES:Magyar
END:VEVENT
BEGIN:VEVENT
DTSTART;TZID=Europe/Budapest:20250916T090000
DTEND;TZID=Europe/Budapest:20250916T120000
DTSTAMP:20260420T034740
CREATED:20250911T082509Z
LAST-MODIFIED:20250911T082550Z
UID:18694-1758013200-1758024000@amk.uni-obuda.hu
SUMMARY:Innovation Office Hours
DESCRIPTION:
URL:https://amk.uni-obuda.hu/esemeny/innovation-office-hours/
CATEGORIES:Magyar
END:VEVENT
BEGIN:VEVENT
DTSTART;TZID=Europe/Budapest:20250923T170000
DTEND;TZID=Europe/Budapest:20250923T200000
DTSTAMP:20260420T034740
CREATED:20250923T092054Z
LAST-MODIFIED:20250923T092054Z
UID:18817-1758646800-1758657600@amk.uni-obuda.hu
SUMMARY:Pannónia ösztöndíjprogram hallgatói élménybeszámoló
DESCRIPTION:Szeptember 23-án délután 17 órakor hallgatói élménybeszámoló lesz a Budai út 43. S épület F015 teremben.\n\nMinden érdeklődőt szeretettel várnak a szervezők!
URL:https://amk.uni-obuda.hu/esemeny/pannonia-osztondijprogram-hallgatoi-elmenybeszamolo/
CATEGORIES:Magyar
END:VEVENT
BEGIN:VEVENT
DTSTART;TZID=Europe/Budapest:20250926T160000
DTEND;TZID=Europe/Budapest:20250926T220000
DTSTAMP:20260420T034740
CREATED:20250911T074755Z
LAST-MODIFIED:20250911T075003Z
UID:18684-1758902400-1758924000@amk.uni-obuda.hu
SUMMARY:Kutatók Éjszakája 2025
DESCRIPTION:https://app.kutatokejszakaja.hu/intezmenyek/obudai-egyetem-alba-regia-kar
URL:https://amk.uni-obuda.hu/esemeny/kutatok-ejszakaja-2025/
CATEGORIES:Magyar
END:VEVENT
BEGIN:VEVENT
DTSTART;TZID=Europe/Budapest:20251001T150000
DTEND;TZID=Europe/Budapest:20251001T170000
DTSTAMP:20260420T034740
CREATED:20250917T130045Z
LAST-MODIFIED:20250917T130045Z
UID:18750-1759330800-1759338000@amk.uni-obuda.hu
SUMMARY:KözKuckó megnyitó
DESCRIPTION:
URL:https://amk.uni-obuda.hu/esemeny/kozkucko-megnyito/
CATEGORIES:Magyar
END:VEVENT
BEGIN:VEVENT
DTSTART;TZID=Europe/Budapest:20251008T130000
DTEND;TZID=Europe/Budapest:20251008T180000
DTSTAMP:20260420T034740
CREATED:20250707T083915Z
LAST-MODIFIED:20250916T100041Z
UID:17794-1759928400-1759946400@amk.uni-obuda.hu
SUMMARY:ÓE AMK Sportnap 2025
DESCRIPTION:Jelentkezés csapatok részére:\nhttps://forms.office.com/e/QxYx5zrhpD?origin=lprLink\n \n \n 
URL:https://amk.uni-obuda.hu/esemeny/amk-sportnap-2025/
CATEGORIES:Magyar
END:VEVENT
BEGIN:VEVENT
DTSTART;TZID=Europe/Budapest:20251014T100000
DTEND;TZID=Europe/Budapest:20251014T160000
DTSTAMP:20260420T034740
CREATED:20250822T084848Z
LAST-MODIFIED:20250925T115025Z
UID:18535-1760436000-1760457600@amk.uni-obuda.hu
SUMMARY:ÓE V. Állásbörze
DESCRIPTION:ÓE V. Állásbörze – ÓE Nonprofit Kft szervezésében\nIdőpont: 10.14.\, 10.00-16.00\nHelyszín: ÓE AMK\, Székesfehérvár\, Budai út 45.\, K épület\, Aula
URL:https://amk.uni-obuda.hu/esemeny/oe-v-allasborze/
CATEGORIES:Magyar
END:VEVENT
END:VCALENDAR